BEGIN:VCALENDAR
VERSION:2.0
PRODID:-//wp-events-plugin.com//7.2.2.1//EN
BEGIN:VEVENT
UID:139@tomrez.com
DTSTART:20260109T160000Z
DTEND:20260111T160000Z
DTSTAMP:20260101T085752Z
URL:https://www.tomrez.com/events/zatezova-topna-zkouska/
SUMMARY:Zátěžová topná zkouška
DESCRIPTION:Všichni vedoucí a praktikanti jsou vřele zváni do Knínic. 
 Vyzkoušíme nový kotel :-).
CATEGORIES:Jiná akce
END:VEVENT
END:VCALENDAR