BEGIN:VCALENDAR
VERSION:2.0
PRODID:-//wp-events-plugin.com//7.2.2.1//EN
BEGIN:VEVENT
UID:108@tomrez.com
DTSTART:20250405T080000Z
DTEND:20250405T140000Z
DTSTAMP:20250328T181348Z
URL:https://www.tomrez.com/events/vysadba-noveho-paleni-stareho-dreva/
SUMMARY:Výsadba mladého\, pálení starého (dřeva :-))
DESCRIPTION:Sraz: 9:00 u obchodu\n\nS sebou: pracovní oblečení\, rukavic
 e\, ostatní bude k dispozici\, buřty\, či něco na opečení a ideáln
 ě něco teplého na sebe\, pokud pak posedíte u ohně.\n\nSpojíme akci 
 Ukliďme Česko a sázení stromů v Močidlech. Důvodem je\, že v ofici
 ální termín úklidu 29.3. je Jarní rozběh.\n\nPlán:\n\n9:00 zahájí
 me úklid po Šimáněho stezce\n\n10:00 v Močidlech vysadíme stromy\n\n
 kolem 12:00 dle počasí rozděláme oheň a upečeme buřty\, či co\, a 
 posedíme\, popovídáme a pozaspíváme.\n\nRozchod dle osobních prefere
 ncí :-).\n\n&nbsp\;\n\nTěšíme se.\n\n&nbsp\;\n\nOrganizuje: Zbyněk\, 
 Filip.
CATEGORIES:Jiná akce
END:VEVENT
END:VCALENDAR