BEGIN:VCALENDAR
VERSION:2.0
PRODID:-//wp-events-plugin.com//7.2.2.1//EN
BEGIN:VEVENT
UID:104@tomrez.com
DTSTART:20250214T144000Z
DTEND:20250216T165300Z
DTSTAMP:20250127T104703Z
URL:https://www.tomrez.com/events/vyprava-do-ceske-lipy/
SUMMARY:Výprava do České Lípy
DESCRIPTION:Sraz: v pátek 14. února v 15:40 před lávkou v Řeži\nNávr
 at: v neděli 16. února v 17:53 tamtéž\n\nNastal čas na první letoš
 ní víkendovou výpravu!\n\nCo náš čeká?\n\nV pátek odpoledne vyraz
 íme vláčky do České Lípy\, kde nás 2 km od nádraží čeká turist
 ická chata. V sobotu se vydáme do Máchova kraje a věnujeme mu celodenn
 í výlet se vším všudy\, pak se vrátíme na chatu do České Lípy. N
 o a v neděli vyměníme kokořínskou přírodu za městské poznávání
  - objevíme krásná města Litoměřice a Terezín. Pak už jen v Bohuš
 ovicích nad Ohří nasedneme na vlak a doputujeme zpět domů.\n\nTuristi
 cká chata patří Asociaci TOM\, můžete si ji prohlédnout zde.\nS sebo
 u:\nSpacák\, prostěradlo\, oblečení na vnitřní aktivity (domácí te
 pláky a mikinu) i na celodenní výlet (teplé turistické oblečení\, 
  nepromokavou obuv a bundu\, čepici\, rukavice\, termo prádlo\, náhradn
 í ponožky\,...). Netekoucí lahev s vodou.\n\nNa cestu oddílovou košil
 i\, pokud máte.\n\nVše si děti ponesou (vyjma sobotního výletu) sami 
 v batohu na zádech!\nJídlo:\nNení nutné nést zásoby\, na chatě si b
 udeme vařit večeře a chystat si jídlo i na výlety.\n\nPROSÍME\, NED
 ÁVEJTE DĚTEM MOBILY\, TABLETY A JINOU ELEKTRONIKU!\nPřihlášky:\nPros
 ím o potvrzení účasti a platbu do úterý 9.2.2025 přes formulář n
 íže.\n\nJakékoliv dotazy zodpoví Zuzka (zuzka.bartikova1701@gmail.com\
 , 776 736 767)\, tak pište\, volejte! :)\n\nKapacita je 20 účastníků.
 \nCena:\nDěti\, studenti do 26 let: 900 Kč\nDospělí: 1200 Kč\n\nPlatb
 a na oddílový účet 161975757/0300. Do poznámky prosím uveďte "Čes
 ká Lípa - Jméno účastníka".\n\n\n\n﻿﻿﻿\n\n&nbsp\;
ATTACH;FMTTYPE=image/jpeg:https://www.tomrez.com/images/post-images/f53e74
 2b-66d0-48e0-ab00-5ddde79cf3f3.jpg
CATEGORIES:Výlet
END:VEVENT
END:VCALENDAR