BEGIN:VCALENDAR
VERSION:2.0
PRODID:-//wp-events-plugin.com//7.2.2.1//EN
BEGIN:VEVENT
UID:109@tomrez.com
DTSTART;VALUE=DATE:20250417
DTEND;VALUE=DATE:20250421
DTSTAMP:20250412T134558Z
URL:https://www.tomrez.com/events/velikonocni-kninice-2/
SUMMARY:Velikonoční Knínice
DESCRIPTION:Sraz: ve čtvrtek v 9:40 před lávkou v Řeži\nNávrat: v ned
 ěli v 15:53 tamtéž\n\nLetošní Velikonoční prázdniny strávíme zas
 e na naší turistické chatě v Knínici. Hurá!\nS sebou:\nSpacák\, pro
 stěradlo\, bačkory\, oblečení na vnitřní aktivity (domácí tepláky
  a mikinu)\, knihu nebo oblíbenou hru\, oddílový zápisník\n\nNěco č
 erného či tmavého\, co lze vylepšit bělením (tričko\, košili\,...)
 .\n\nNa cestu oddílovou košili\, pokud máte.\nNa výlety:\nPevné nepro
 mokavé boty\, nepromokavou bundu\, pláštěnku (každá nepromokavá bun
 da nakonec promokne)\, čepici\, turistické kalhoty\, rukavice (dle před
 povědi počasí)...\nJídlo:\nNa cestu a na oběd\, netekoucí láhev na 
 pití\, ½ chleba!\n\nChata je v turistickém stylu\, nedávejte dětem dr
 ahé a nové oblečení.\n\nVŠE kromě spacáku dětem zabalte do jednoho
  batohu na záda\, samy si ho ponesou. Taška je nevhodná\, půjdeme od a
 utobusu pěšky 1 km do kopce. Spacáky přineste na sraz zvlášť v ruce
 \, odveze je z Řeže auto. Všechny ostatní osobní věci si děti nesou
  samy.\n\nPROSÍME\, NEDÁVEJTE DĚTEM MOBILY\, TABLETY A JINOU ELEKTRONIK
 U!\n\nČeká nás celodenní výlet\, procházky po okolí\, jarní vyráb
 ění - malování bělidlem na textil :)\, promítání\, spousta her a 
 zábavy…\nPřihlášky:\nProsím o potvrzení účasti do neděle 13.4.
  přes formulář níže.\n\nJakékoliv dotazy zodpoví Zuzka (zuzka.bart
 ikova1701@gmail.com\, 776 736 767)\, tak pište\, volejte! :)\nCena:\n1200
  Kč (jízdné\, vstupné\, jídlo\, nocleh). Peníze vybíráme při sraz
 u v hotovosti\, nebo převodem dopředu\, nebo přes QR kód na místě :-
 ).\n\n﻿﻿﻿
ATTACH;FMTTYPE=image/jpeg:https://www.tomrez.com/images/post-images/202304
 09_113651-scaled.jpg
CATEGORIES:Jiná akce
END:VEVENT
END:VCALENDAR