BEGIN:VCALENDAR
VERSION:2.0
PRODID:-//wp-events-plugin.com//7.2.2.1//EN
BEGIN:VEVENT
UID:55@tomrez.com
DTSTART:20240301T150000Z
DTEND:20240303T180000Z
DTSTAMP:20240221T162539Z
URL:https://www.tomrez.com/events/soustredeni-vedoucich/
SUMMARY:Soustředění vedoucích
DESCRIPTION:Sraz: v pátek 1.března u lávky\, čas dle hlasování zde:\n
 \nhttps://forms.gle/MXYpcP7sAudC46ny9\n\n&nbsp\;\n\nCíl: Kacanovy\, Česk
 ý ráj\n\nVlakem do Turnova ca 2h\, pak ca 1\,5 hodiny příjemná proch
 ázka do Kacanov.\n\nNa místě je 8 míst na spaní s matrací\, jedno ka
 nape\, zbytek bude spát na (teplé) zemi na karimatkách.\n\nSpíme ve vl
 astních spacácích. Splachovací záchod\, sprcha\, teplá voda\, sporá
 k\, varná konvice.\n\nV sobotu celodenní výlet po okolí.\n\nV neděli 
 dle dohody menší výlet\, cesta na vlak\, příjezd kolem 19h.\n\n&nbsp\
 ;\n\nJídlo:\n\nVečeře v pátek bude zajištěna.\n\nS sebou každý: sn
 ídaně 2x \, oběd 2x = pečivo a něco k němu (máme sice malou ale led
 nici)\n\nOběd v sobotu snad v otevřeném občerstvení/restauraci (není
  jistota)\n\nVečeři v sobotu večer si uvaříme (ještě dohodneme\, kd
 o co vezme)\n\n&nbsp\;\n\nS sebou (kormě jídla výše):\n\nSpacák\, kar
 imatka\, příp. menší batoh na výlet.
CATEGORIES:Výlet
END:VEVENT
END:VCALENDAR