BEGIN:VCALENDAR
VERSION:2.0
PRODID:-//wp-events-plugin.com//7.2.2.1//EN
BEGIN:VEVENT
UID:58@tomrez.com
DTSTART:20240828T070000Z
DTEND:20240901T160400Z
DTSTAMP:20240821T141739Z
URL:https://www.tomrez.com/events/prechod-beskyd/
SUMMARY:Přechod Beskyd 2024
DESCRIPTION:Sraz: Středa\, 28.srpna 8:00 u lávky\, odjezd vlaku: 8:23\n\n
 Návrat: Neděle\, 1.září 17:04 u lávky\n\nPozn.: Školní rok začín
 á v pondělí 2.9.2024\n\nA máme to tu zas\, letní přechod hor\, tento
 krát slibované Beskydy a rovnou ty severní. Vyrážíme z Frýdlantu na
 d Ostravicí. V plánu je opět postupný výšlap od vlaku na hřeben\, k
 terý završíme druhý den zdoláním Lysé hory (1323 mnm). Tento druhý
  den nás čeká převýšení téměř přesně 700m\, tedy ti\, co byli 
 na Oblíku již mají natrénováno :-). Pak se budeme pohybovat stále ok
 olo 1000 mnm a postupně mineme Sulov\, Babí vrch\, Javorový\, a po čtv
 rté noci budeme scházet opět dolů do Vendryně\, kousek od Třince. Do
 konce na chvilku zavítáme v zahraničí (pasy netřeba :-)). Trasa je n
 áročností střední\, spíše lehká. Neneseme si domečky\, jen vybave
 ní na den a věci na spaní. Všichni\, koho znám\, to zvládnou :-). Ur
 čeno pro všechny věkové kategorie.\n\nMotivační fotky z loňského p
 řechodu Jeseníků zde.\n\nKapacita omezena na 20 účastníků (+ vedouc
 í). Pokud se nás přihlásí víc\, řídíme se dle priority: děti čl
 enové dle pořadí přihlášení\, pak dospělí členové. Pokud zbydou
  volná místa\, nabídneme je nečlenům dětem\, pak dospělým.\n\nKdo 
 váhá\, volejte.\nTrasa\n Pozn: Trasa je přibližná\, může se měnit
  dle potřeby.\n\nCena\nV ceně je zahrnuto: cesta vlakem tam a zpět\, ub
 ytování 4x v horských chatách s peřinou\, plná penze 4x\, beskydské
  všudypřítomné vlhko.\n\nPředběžná cena (ještě možná ušetří
 me něco málo na skupinovém jízdném \, záleží na počtu přihláše
 ných):\n\nDěti do 18 let: 4350\,- Kč\n\nDospělí: 4700\,- Kč\n\nDopla
 tek do plné ceny prosíme do odjezdu převodem na oddílový účet.\n\n
 Účet 161975757/0300\, zpráva pro příjemce: "Beskydy 2024 - " + Jméno
  účastníka(ů).\nDetaily a seznam věcí k vytištění\nBeskydy 2024 -
  Seznam věcí.pdf\n\n&nbsp\;\nPřihláška\nPro členy nejpozději do 12.
 6.\, pokud po tomto datu zbydou volná místa\, nabídneme je nečlenům.\
 n﻿Načítání…
ATTACH;FMTTYPE=image/jpeg:https://www.tomrez.com/images/post-images/New-07
 2-scaled.jpg
CATEGORIES:Výlet
END:VEVENT
END:VCALENDAR