BEGIN:VCALENDAR
VERSION:2.0
PRODID:-//wp-events-plugin.com//7.2.2.1//EN
BEGIN:VEVENT
UID:106@tomrez.com
DTSTART:20250508T073000Z
DTEND:20250511T160400Z
DTSTAMP:20250507T070242Z
URL:https://www.tomrez.com/events/podolsko-pod-stanem-2/
SUMMARY:Podolsko pod stanem
DESCRIPTION:Sraz: POZOR ZMĚNA: ve čtvrtek 8.5.2025\, 8:30 před lávkou v
  Řeži\,\nNávrat: v neděli 11.5. tamtéž\, 17:04\nZávazné přihláš
 ky (níže) do středy 30.4.2025 včetně (kvůli místenkám ve vlaku)\nA
  opět tu máme tolik oblíbené Podolsko. Pojedeme už ve středu večer.
  Čtvrtek je státní svátek\, pátek mají Pražští školáci většin
 ou ředitelské volno\, Řežští bohužel nikoliv. Proto uctivě žádá
 me\, pusťte vaše potomstvo s námi a omluvte je na jeden den ve škole. 
 Díky moc. Čeká nás spaní pod stanem\, výlety po okolí\, dle počas
 í i výlety na kánoích\, večerní táborák a spousta her. Opět vyraz
 íme do stanové základny Fakulty elektrotechnické ČVUT v Praze v obci 
 Temešvár na břehu přehrady Orlík. Spát budeme ve stanech\, jídlo si
  budeme připravovat po tábornicku. Čekají nás výlety po vodě i sou
 ši. Na místě budeme pobíhat odlehčeni :-). Vzhledem k tomu\, že se s
  nejvyšší pravděpodobností svezeme na kánojích\, je akce určena po
 uze pro plavce (vesty zajištěny). Pravděpodobně opět vezmeme velký k
 ulatý stan\, dáme vědět. Jinak stany vlastní\, a samozřejmě poskytn
 eme zájemcům oddílové. Článek z minulého roku zde.\nNa sebe\nDlouh
 é turistické kalhoty\, oddílová košile\, nepromokavá středně zatep
 lená bunda\, nepromokavé turistické boty (pokud možno kotníčkové)\,
  kšiltovka.\n\n\n\nS sebou\nLehká pláštěnka (každá nepromokavá bun
 da nakonec promokne)\, náhradní ponožky 3x (z toho jedny tlusté)\, ná
 hradní triko 2x\, lehká zimní čepice bez bambule (mj. na spaní)\, fun
 kční/termoprádlo\, druhá mikina\, druhé venkovní kalhoty\, šortky\,
  věci na spaní\, hygiena\, ručník\, plavky\, léky (pokud jsou nutné+
 návod)\, čelovka\, ešus nebo miska (jen pro servírování hotového j
 ídla)\, lžíce\, plecháček\, přiměřené kapesné max 50 Kč na den\
 , oddílový zápisník.\nPokud se vám hlavní batoh nedá moc stáhnout\
 , můžete mít s sebou ještě jeden malý na výlety. Pokud bude prázdn
 ý\, vezme ho auto :-).\nDále pak: Teplý spacák\, karimatku\, stan - mo
 žno jako obvykle půjčit oddílový\, uveďte prosím při přihlašová
 ní. Stany a spacáky mějte na srazu zvlášť\, vezme je auto.\n\n\n\nJ
 ídlo\nVe středu na cestu + minimálně 1 litr vody v netekoucí lahvi/la
 hvích\, večeře zajištěna. Po dobu pobytu strava zajištěna.\nCena\n\
 nVšichni: 1500\,- Kč\n\nV ceně je doprava\, ubytování a strava.\n\nP
 řihlášky: Buď mailem\, telefonicky\, nebo elektronicky níže. Těší
 me se Organizuje: Filip.\n
ATTACH;FMTTYPE=image/jpeg:https://www.tomrez.com/images/post-images/P_2024
 0517_183356.jpg
CATEGORIES:Výlet
END:VEVENT
END:VCALENDAR