BEGIN:VCALENDAR
VERSION:2.0
PRODID:-//wp-events-plugin.com//7.2.2.1//EN
BEGIN:VEVENT
UID:128@tomrez.com
DTSTART:20260319T160000Z
DTEND:20260319T190000Z
DTSTAMP:20260317T064403Z
URL:https://www.tomrez.com/events/oddilova-schuzka-2026-03-19/
SUMMARY:Oddílová schůzka
DESCRIPTION:Sraz v 17:00 na náměstíčku na Červené skále. Rozchod 20:
 00 tamtéž\, děti odchází samostatně.\n\nOblečení dle počasí\, po
 kud lze\, tak jsme venku\, ale máme provizorní zázemí.\nTento čtvrtek
  budeme věnovat částečně oddílovou schůzku úklidu červeného hři
 ště (na Červené skále)\, tak\, aby zas mohlo sloužit všem jak má\,
  a zejména neklouzalo po nánosech písku.\nVezměte prosím s sebou: "Ka
 rtáčové koště"\, např. zde\, či zde. Nemáte-li nevadí\, vzájem
 ně si půjčíme\, nebo vezmete i obyčejný smeták s co nejtvrdšími 
 štětinami. Za odměnu pak dáme přehazku nebo basket dle nálady. Při 
 nepříznivém počasí zaplujeme do klubovny.\nPo našem úklidu pak vezm
 eme hřiště (o víkendu už bez dětí) wapkou\, čímž hřiště doči
 stíme.
CATEGORIES:Schůzka
END:VEVENT
END:VCALENDAR