BEGIN:VCALENDAR
VERSION:2.0
PRODID:-//wp-events-plugin.com//7.2.2.1//EN
BEGIN:VEVENT
UID:54@tomrez.com
DTSTART:20240205T180000Z
DTEND:20240205T190000Z
DTSTAMP:20240115T180712Z
URL:https://www.tomrez.com/events/oddilova-rada/
SUMMARY:Oddílová rada
DESCRIPTION:
CATEGORIES:Jiná akce
END:VEVENT
END:VCALENDAR