BEGIN:VCALENDAR
VERSION:2.0
PRODID:-//wp-events-plugin.com//7.2.2.1//EN
BEGIN:VEVENT
UID:105@tomrez.com
DTSTART;VALUE=DATE:20250809
DTEND;VALUE=DATE:20250824
DTSTAMP:20250804T072413Z
URL:https://www.tomrez.com/events/letni-tabor-2025/
SUMMARY:Letní tábor 2025
DESCRIPTION:Termín: Sobota 9.8. - Sobota 23.8.2025\n\nMísto konání: Tá
 bořiště Javorový 840 m.n.m.\, pod vrcholem Javorový\, Beskydy\, 8km o
 d Třince\n\nJe to tu\, jsme připraveni\, vřele tímto vaše dítka zvem
 e na vysněný letní zážitek doprostřed hustých lesů\, do nadmořsk
 é výšky 840 m.n.m.\, do tolik tajemných Beskyd. Vše už čeká na ná
 š průzkum\, vše bude nové.  Kdo byl na přechodu\, jistě propadl kou
 zlu toho místa. Moc se těšíme.\n\nNicméně trocha formalit:\n\nOproti
  předchozím letům nás čeká mnoho změn\, zde jsou ty klíčové:\n\n
  	Jedeme v jiný termín (to bohužel jinak nejde\, věříme\, že se pod
 aří letní plány skloubit\, proto letos zahajujeme přihlašování dř
 íve než předchozí roky)\,\n 	Cestujeme vlakem z Řeže (cestu známe 
 z přechodu Beskyd &#x1f60a\;)\,\n 	Zavazadla budou cestovat dodávkou\, 
 naložíme je pravděpodobně den před odjezdem\,\n 	Na tábor jedeme bez
  kol\,\n 	Zdražili jsme – důvodem je\, že minulý rok jsme to měli t
 ak tak\, ceny neustále rostou\, a jsme nejlevnější široko daleko\, o 
 to víc dětem dopřejeme &#x1f60a\;.\n\nKomu je tábor určen:\nTábor op
 ět organizujeme jako vyvrcholení celoroční oddílové aktivity\, je ur
 čen pro členy oddílu od 6 do 15 let věku včetně\, s kapacitou 28 dě
 tiček. V případě naplnění kapacity mají pro přihlášení přednos
 t děti\, kteří se s námi účastní akcí pravidelně.  Abychom si to
  všichni užili\, máme na sebe minimálně následující povinné náro
 ky:\n\n 	Být aktivním členem oddílu a mít zaplacené příspěvky na 
 aktuální rok\,\n 	Účastnit se alespoň 3 pěších výletů od minulé
 ho tábora - viz Počítadlo 2025\,\n 	Účastnit se oddílových schůzek
 .\n\nVedoucí a praktikanti:\nProgram zajišťují naši vedoucí a prakti
 kanti\, kteří celoročně organizují oddílové akce a přicházejí ta
 k do styku s dětmi dlouhodobě. O vaše děti se postarají (předběžn
 ě):\n\nZuzka\, Eliška\, Kačka S.\, Emma\, Tomáš\, Martin\, Tonda\, Ma
 touš\, Šimon B.\, Jakub S.\, Zbyněk\, Filip\nParametry tábořiště:\n
 K dispozici je 27 podsadových stanů (54 osob)\, nářaďovna (vybavena z
 ákladním ručním nářadím)\, umývárky\, sprchy (topení v lázeňsk
 ých kamnech)\, 4x suché WC a 2x hangár (kuchyně a jídelna s elektrick
 ým osvětlením). Pravidelný dovoz vody zajištěn\, užitková voda ze 
 studny rozvedena po tábořišti. Další detaily zde.\nPlatba:\n\n\n\nDí
 tě (6 - 15 let včetně)\n4900\,- Kč\n\n\nPraktikant (16 - 17 let včetn
 ě)\n4900\,- Kč\n\n\n\nPlaťte prosím do pátku 6.června 2025 včetně 
 na NOVÝ oddílový účet u FIO banky:  2003179631 / 2010. Do zprávy pr
 o příjemce uveďte "Tábor 2025 - JMÉNO(A)"\, doplňte jména dítěte 
 nebo dětí (můžete poslat za více dětí jednu společnou platbu).\n\n
 Pokud vám celou nebo část platby uhradí zaměstnavatel\, kontaktujte n
 ás\, vystavíme fakturu\, příp. potvrzení.\n\n\nVšichni dospělí pra
 cují ve prospěch tábora zcela zdarma\, stejně jako na všech ostatníc
 h oddílových akcích. K zaplacení nákladů přispívá vedle vašich p
 říspěvků i dotace\, kterou při splnění přísných podmínek dostá
 váme od Asociace turistických oddílů mládeže\, potažmo od státu (M
 ŠMT).\n\nPřípadné laskavé sponzorské dary jsou vítány\, potvrzení
  o daru vystavíme. Vzhledem k povaze naší organizace bude částka ze 
 100% využita ve prospěch oddílu (např. nákup sportovního vybavení).
 \n\n\nPřihlášky (již uzavřeny):\nProsíme\, počítejte s tím\, že 
 letos pravděpodobně opět nebudeme moci vyhovět všem\, co podají při
 hlášku z důvodu kapacity. Tímto si s dovolením vyhrazujeme právo na 
 nepřijetí vašich dítek zejména z důvodů uvedených v kapitolce "Kdo
  může jet". Díky za pochopení.\n\nPřihláška ke stažení zde:\n\nT
 ábor 2025 - Přihláška.doc\n\nVyplněnou přihlášku prosíme doručit
  nejpozději do 13.2.2025 na adresu Filip Blahuš\, Červená skála 339\
 , 250 68 Husinec-Řež\, nebo oskenovanou s vlastnoručním podpisem na em
 ail info@tomrez.com. Děkujeme.\n\nNejpozději do 23.2. obdržíte informa
 ci o přijetí/nepřijetí. Pokud bude dítko přijato\, včas obdržíte 
 další potřebné detaily\, jako je seznam věcí\, formulář pro prohl
 ášení o bezinfekčnosti a podobně.\n\nPozn.: Přihlášku vyplňují a
  podávají všichni účastníci do 17 let včetně\, tedy i praktikanti.
 \n\nS jakýmikoliv dotazy volejte Filipa 724 123 971\, nebo Zuzku 776 736 
 767.\n\nMoc se těšíme!\nDokumenty ke stažení\n[integrate_google_drive
  id="136"]\nNakládání věcí\nNakládání věcí do dodávky k odvozu 
 na tábor proběhne v pátek 8.srpna 19:00 na parkovišti u Obecního úř
 adu (U Radnice 64).\n\nDo dodávky tedy přijde:\n\n 	Jedno zavazadlo (kuf
 r)\,\n 	Spacák\,\n 	Karimatka.\n\n&nbsp\;\n\nZa TOM 5101 Řež\n\nFilip.
ATTACH;FMTTYPE=image/jpeg:https://www.tomrez.com/images/post-images/javoro
 vy-0.jpg
CATEGORIES:Letní tábor
END:VEVENT
END:VCALENDAR