BEGIN:VCALENDAR
VERSION:2.0
PRODID:-//wp-events-plugin.com//7.2.2.1//EN
BEGIN:VEVENT
UID:56@tomrez.com
DTSTART;VALUE=DATE:20240629
DTEND;VALUE=DATE:20240713
DTSTAMP:20240626T115236Z
URL:https://www.tomrez.com/events/letni-tabor-2024/
SUMMARY:Letní tábor 2024
DESCRIPTION:Pozvánka\nVidíte\, čeká na nás :-):  tábořiště Na Ost
 růvku\, u Milčic u Blatné v jižních Čechách. To se nachází uprost
 řed skutečného lesního ostrůvku mezi zvlněnými jihočeskými pastvi
 nami. V okolí jsou vedle pastvin lesy\, rybníky\, kopečky\, vesničky\,
  zkrátka vše potřebné pro to\, abychom si to na čerstvém vzduchu po
 řádně užili.\n\nSpolečně s praktikanty už připravujeme novou celot
 áborovou hru na téma Staré pověsti české. Každý den (kromě puťá
 ku) nás čekají úkoly a výzvy\, které se budeme snažit splnit co nej
 lépe\, aby naše družstvo uspělo. Vedle celotáborovky pak atletické\,
  míčové i stolní hry\, řemeslné i rukodělné aktivity\, spoustu vý
 letů jak pěších tak cyklistických a společné večery u táboráku.\
 n\nPro děti starší 10ti let\, které dobře plavou\, je pak opět přip
 raven putovní cyklopádlovýlet: na 2 noci mimo tábor včetně jednodenn
 ího splouvání řeky Otavy. Je nepovinný.\n\nA ti\, co nebudou pádlova
 t\, nově nepřijdou zkrátka\, čeká je totiž taky puťák\, jen pěš
 í :-).\n\nTábor organizujeme jako vyvrcholení celoroční oddílové ak
 tivity\, je určen pro členy oddílu od 6 do 15 let věku včetně s kapa
 citou 30 míst. Program zajišťují naši vedoucí a praktikanti\, kteř
 í pravidelně a celoročně organizují naše akce a přicházejí tak do
  styku s dětmi dlouhodobě. V případě naplnění kapacity mají pro p
 řihlášení přednost děti\, kteří se s námi účastní akcí pravid
 elně.\nKdo může jet\nAbychom si to všichni užili\, máme na sebe mini
 málně následující povinné nároky:\n\n 	Být aktivním členem oddí
 lu a mít zaplacené příspěvky na aktuální rok\,\n 	Účastnit se ale
 spoň 3 pěších výletů od minulého tábora\,\n 	Účastnit se prvníc
 h dvou a jednoho volitelného přípravného cyklovýletu (květen – če
 rven)\,\n 	Mít kolo před odjezdem v perfektním stavu\, znát základy 
 pravidel silničního provozu a základy jízdy ve skupině\,\n 	Pokud jed
 u na "velký" puťák:\n\n 	Zúčastnit se přípravného tréninku na kan
 ále ve Veltrusech\,\n 	Býti dobrým plavcem.\n\n\n\nParametry tábořiš
 tě:\n30 podsadových stanů\, 5 velkých srubů – zařízená jídelna\
 , plně vybavená kuchyň\, zázemí pro případ nepříznivého počasí
 \, dřevěná umývárna a sprchy s možností ohřátí teplé vody\, suc
 hé záchody v lese\, hřiště na fotbal a volejbal\, velký kopaný skle
 p\, pitná voda ze speciální nádrže 6 m3 (pravidelný dovoz vody ciste
 rnou zajištěn)\, užitková voda ze studny.\nPlatba:\n\n\n\nDítě 6-9 l
 et včetně\n3900\,- Kč\n\n\nDítě 10-15 let včetně bez vodáckého pu
 ťáku\n3900\,- Kč\n\n\nDítě 10-15 let včetně s vodáckým puťákem\
 n4400\,- Kč\n\n\nPraktikant 16-17 let bez/s vodáckým puťákem\n3900\,-
  Kč\n\n\n\nPozn.: Rozhoduje věk dítěte v den zahájení tábora. "Mal
 ý" pěší puťák je zahrnut ve snížené ceně. \n\nPlatbu zašlete p
 rosím na oddílový účet 161975757/0300. Do zprávy pro příjemce uve
 ďte jména dítěte nebo dětí (můžete poslat za více dětí jednou p
 latbou).\n\nPlaťte prosím do 15.května 2024.\n\nNa vyžádání vystav
 íme fakturu pro vašeho zaměstnavatele.\n\nVšichni dospělí pracují v
 e prospěch tábora zcela zdarma\, stejně jako na všech ostatních oddí
 lových akcích. K zaplacení nákladů přispívá vedle vašich přísp
 ěvků i dotace\, kterou při splnění přísných podmínek dostáváme 
 od Asociace turistických oddílů mládeže\, potažmo od státu (MŠMT).
 \n\nPřípadné laskavé sponzorské dary jsou vítány\, potvrzení o dar
 u vystavíme. Vzhledem k povaze naší organizace bude částka ze 100% v
 yužita ve prospěch oddílu (např. nákup sportovního vybavení).\nPři
 hlášky:\nProsíme\, počítejte s tím\, že letos téměř s jistě neb
 udeme umět vyhovět všem\, co podají přihlášku z důvodu kapacity. T
 ímto si s dovolením vyhrazujeme právo na nepřijetí vašich dítek zej
 ména z důvodů uvedených v kapitolce "Kdo může jet"\, případně jin
 ých\, které vám samozřejmě vysvětlíme. Díky za pochopení.\n\nPři
 hláška ke stažení zde: Tábor 2024 - Přihláška.doc\n\nVyplněnou p
 řihlášku prosíme doručit do 14.4.2024 na adresu Filip Blahuš\, Červ
 ená skála 339\, 250 68 Husinec-Řež\, nebo oskenovanou s vlastnoruční
 m podpisem na email info@tomrez.com. Děkujeme.\n\nDo 21.4. dáme vědět 
 informaci o přijetí/nepřijetí.\n\nPokud budete přijati\, včas obdrž
 íte další potřebné detaily\, jako je seznam věcí\, formulář pro p
 rohlášení o bezinfekčnosti a podobně.\n\nPozn.: Přihlášku vyplňuj
 í a podávají všichni účastníci do 17 let včetně\, tedy i praktika
 nti.\n\nS jakýmikoliv dotazy volejte Filipa 724 123 971\, nebo Zuzku 776 
 736 767.\n\nMoc se těšíme!\nDokumenty ke stažení\nLT2024 - Pokyny.pdf
 \nLT2024 - Seznam věcí.pdf\nLT2024 - Bezinfekcnost - Děti.docx\nLT2024 
 - Zdravotní způsobilost - Děti.docx\n\nZa TOM 5101 Řež\n\nFilip.
ATTACH;FMTTYPE=image/jpeg:https://www.tomrez.com/images/post-images/202307
 01_112253.jpeg
CATEGORIES:Jiná akce
END:VEVENT
END:VCALENDAR