BEGIN:VCALENDAR
VERSION:2.0
PRODID:-//wp-events-plugin.com//7.2.2.1//EN
BEGIN:VEVENT
UID:107@tomrez.com
DTSTART:20250316T074500Z
DTEND:20250316T175300Z
DTSTAMP:20250312T091225Z
URL:https://www.tomrez.com/events/granatka/
SUMMARY:Granátka
DESCRIPTION:Kdy:  neděle 16. března\n\n\n\nSraz: 8:45 před lávkou v Ř
 eži\n\n\n\nNávrat:  v 18:53 tamtéž\n\n\n\nČeká nás opět naše obl
 íbené Středohoří\, pěkná procházka po kopečkách\, navštívením
  bývalého hradu Blešno\, zakončená rýžováním granátů. Měly by 
 tam opravdu být\, kdo bude mít štěstí\, přiveze si domů pravý pokl
 ad.\n\n\n\n\nNa sebe:\n\n\n\nDlouhé turistické kalhoty\, termoprádlo\, 
 nepromokavá středně zateplená bunda\, lehká pláštěnka (každá nep
 romokavá bunda nakonec promokne)\, nepromokavé turistické boty (kotní
 čkové\, budeme rýžovat v potoce)\, lehká zimní čepice\, mikina/svet
 r\, lehké tenké rukavice.\n\n\n\nS sebou:\n\n\n\nNáhradní ponožky\, 
 náhradní triko\, léky (pokud jsou nutné+návod)\, svítilna\, přimě
 řené kapesné max 50 Kč na den\, oddílový zápisník. Dále pak víč
 ko od ešusu nebo misku (ne červenou :-))\, malou nádobičku na úlovky 
 (ideálně průhlednou\, zkumavku\, starou lékovku\, nebo bytelnější p
 ytlík).\n\n\n\nJídlo: Na celý den\, minimálně 1 litr vody v netekouc
 í lahvi/lahvích\n\n\n\n\n\nPROSÍME\, NEDÁVEJTE DĚTEM MOBILY\, TABLETY
  A JINOU ELEKTRONIKU!\n\n\n\nDěti budou pod nepřetržitým dohledem a v
  případě potřeby Vás mohou kontaktovat prostřednictvím telefonů v
 edoucích.\n\n\n\n\n\nPřihlášky:\n\n\n\nJen dejte vědět předběžně
  účast u Filipa do středy 12.3.2025. Jinak přijďte klidně bez ohlá
 šení až na místo srazu. Těšíme se!\n\n\n\nKapacita: není omezena\n
 \n\n\nCena: Dospělý 400\,- Kč Děti 200\,- Kč Vybíráme při odjezdu 
 v hotovosti nebo QR kódem.\n\n\n\nOrganizuje: Filip
ATTACH;FMTTYPE=image/jpeg:https://www.tomrez.com/images/post-images/Pyrope
 _Czechia.jpg
CATEGORIES:Výlet
END:VEVENT
END:VCALENDAR